BEGIN:VCALENDAR
VERSION:2.0
PRODID:-//OsatuBerri - ECPv4.9.13//NONSGML v1.0//EN
CALSCALE:GREGORIAN
METHOD:PUBLISH
X-WR-CALNAME:OsatuBerri
X-ORIGINAL-URL:https://www.osatuberri.eus
X-WR-CALDESC:Events for OsatuBerri
BEGIN:VTIMEZONE
TZID:Europe/Helsinki
BEGIN:DAYLIGHT
TZOFFSETFROM:+0200
TZOFFSETTO:+0300
TZNAME:EEST
DTSTART:20230326T010000
END:DAYLIGHT
BEGIN:STANDARD
TZOFFSETFROM:+0300
TZOFFSETTO:+0200
TZNAME:EET
DTSTART:20231029T010000
END:STANDARD
END:VTIMEZONE
BEGIN:VEVENT
DTSTART;VALUE=DATE:20230906
DTEND;VALUE=DATE:20230908
DTSTAMP:20260424T095731
CREATED:20230703T094820Z
LAST-MODIFIED:20230703T094944Z
UID:3359-1693958400-1694131199@www.osatuberri.eus
SUMMARY:TopaGune: Sexualitateak emakumeen ikuspuntutik
DESCRIPTION:
URL:https://www.osatuberri.eus/ekitaldia/topagune-sexualitateak-emakumeen-ikuspuntutik/
LOCATION:Miramar  jauregia\, Donostia
CATEGORIES:Ikastaroak
END:VEVENT
END:VCALENDAR